BEGIN:VCALENDAR
VERSION:2.0
PRODID:-//Linars - ECPv6.15.17//NONSGML v1.0//EN
CALSCALE:GREGORIAN
METHOD:PUBLISH
X-ORIGINAL-URL:https://www.linars.fr
X-WR-CALDESC:Évènements pour Linars
REFRESH-INTERVAL;VALUE=DURATION:PT1H
X-Robots-Tag:noindex
X-PUBLISHED-TTL:PT1H
BEGIN:VTIMEZONE
TZID:Europe/Paris
BEGIN:DAYLIGHT
TZOFFSETFROM:+0100
TZOFFSETTO:+0200
TZNAME:CEST
DTSTART:20240331T010000
END:DAYLIGHT
BEGIN:STANDARD
TZOFFSETFROM:+0200
TZOFFSETTO:+0100
TZNAME:CET
DTSTART:20241027T010000
END:STANDARD
BEGIN:DAYLIGHT
TZOFFSETFROM:+0100
TZOFFSETTO:+0200
TZNAME:CEST
DTSTART:20250330T010000
END:DAYLIGHT
BEGIN:STANDARD
TZOFFSETFROM:+0200
TZOFFSETTO:+0100
TZNAME:CET
DTSTART:20251026T010000
END:STANDARD
BEGIN:DAYLIGHT
TZOFFSETFROM:+0100
TZOFFSETTO:+0200
TZNAME:CEST
DTSTART:20260329T010000
END:DAYLIGHT
BEGIN:STANDARD
TZOFFSETFROM:+0200
TZOFFSETTO:+0100
TZNAME:CET
DTSTART:20261025T010000
END:STANDARD
END:VTIMEZONE
BEGIN:VEVENT
DTSTART;TZID=Europe/Paris:20250517T080000
DTEND;TZID=Europe/Paris:20250518T170000
DTSTAMP:20260422T100025
CREATED:20250514T145443Z
LAST-MODIFIED:20250514T150233Z
UID:5211-1747468800-1747587600@www.linars.fr
SUMMARY:Inauguration du Sentier Métropolitain
DESCRIPTION:Les 17 et 18 mai\, de nombreux marcheurs vont converger vers les chais Magelis pour inaugurer et s’approprier le Sentier métropolitain de GrandAngoulême. \nEt si vous preniez part à cette inauguration\, pour découvrir les points forts de ces nouveaux parcours\, du projet artistique qu’il porte et des histoires qu’il a permis de révéler ? \nInscriptions et informations sur : Le sentier métropolitain de GrandAngoulême. \nVenez nombreux !   \n#Sentiermetropolitain #grandangouleme #inauguration #magelis
URL:https://www.linars.fr/evenement/inauguration-du-sentier-metropolitain/
LOCATION:Chais Magélis\, Angoulême\, 16000
ATTACH;FMTTYPE=image/jpeg:https://www.linars.fr/wp-content/uploads/2025/05/2502_Sentier-metropolitain_1080x1350-scaled.jpg
END:VEVENT
END:VCALENDAR